BEGIN:VCALENDAR
VERSION:2.0
PRODID:-//Carine Senior High School  - ECPv5.8.0//NONSGML v1.0//EN
CALSCALE:GREGORIAN
METHOD:PUBLISH
X-WR-CALNAME:Carine Senior High School 
X-ORIGINAL-URL:https://www.carinehs.wa.edu.au
X-WR-CALDESC:Events for Carine Senior High School 
BEGIN:VTIMEZONE
TZID:Asia/Shanghai
BEGIN:STANDARD
TZOFFSETFROM:+0800
TZOFFSETTO:+0800
TZNAME:CST
DTSTART:20240101T000000
END:STANDARD
END:VTIMEZONE
BEGIN:VEVENT
DTSTART;TZID=Asia/Shanghai:20240226T150000
DTEND;TZID=Asia/Shanghai:20240226T180000
DTSTAMP:20260421T112733
CREATED:20240223T063558Z
LAST-MODIFIED:20240223T063558Z
UID:11101-1708959600-1708970400@www.carinehs.wa.edu.au
SUMMARY:Year 7 Pool Party
DESCRIPTION:Y7 Pool Party 3:15pm – 6:00pm
URL:https://www.carinehs.wa.edu.au/event/year-7-pool-party/
LOCATION:Carine SHS Pool
CATEGORIES:Parents & Community,Staff,Year 7
END:VEVENT
END:VCALENDAR