BEGIN:VCALENDAR
VERSION:2.0
PRODID:-//Carine Senior High School  - ECPv5.8.0//NONSGML v1.0//EN
CALSCALE:GREGORIAN
METHOD:PUBLISH
X-WR-CALNAME:Carine Senior High School 
X-ORIGINAL-URL:https://www.carinehs.wa.edu.au
X-WR-CALDESC:Events for Carine Senior High School 
BEGIN:VTIMEZONE
TZID:Asia/Shanghai
BEGIN:STANDARD
TZOFFSETFROM:+0800
TZOFFSETTO:+0800
TZNAME:CST
DTSTART:20220101T000000
END:STANDARD
END:VTIMEZONE
BEGIN:VEVENT
DTSTART;TZID=Asia/Shanghai:20220526T090000
DTEND;TZID=Asia/Shanghai:20220526T150000
DTSTAMP:20260423T110827
CREATED:20220512T094512Z
LAST-MODIFIED:20220512T094512Z
UID:8758-1653555600-1653577200@www.carinehs.wa.edu.au
SUMMARY:Years 7-9 Interschool Netball Competition
DESCRIPTION:
URL:https://www.carinehs.wa.edu.au/event/years-7-9-interschool-netball-competition/
END:VEVENT
END:VCALENDAR