BEGIN:VCALENDAR
VERSION:2.0
PRODID:-//Carine Senior High School  - ECPv5.8.0//NONSGML v1.0//EN
CALSCALE:GREGORIAN
METHOD:PUBLISH
X-WR-CALNAME:Carine Senior High School 
X-ORIGINAL-URL:https://www.carinehs.wa.edu.au
X-WR-CALDESC:Events for Carine Senior High School 
BEGIN:VTIMEZONE
TZID:Asia/Shanghai
BEGIN:STANDARD
TZOFFSETFROM:+0800
TZOFFSETTO:+0800
TZNAME:CST
DTSTART:20230101T000000
END:STANDARD
END:VTIMEZONE
BEGIN:VEVENT
DTSTART;TZID=Asia/Shanghai:20231010T080000
DTEND;TZID=Asia/Shanghai:20231013T083000
DTSTAMP:20260423T193609
CREATED:20230314T064849Z
LAST-MODIFIED:20230314T064849Z
UID:9539-1696924800-1697185800@www.carinehs.wa.edu.au
SUMMARY:Year 7 Immunisations
DESCRIPTION:
URL:https://www.carinehs.wa.edu.au/event/year-7-immunisations-6/
CATEGORIES:Parents & Community,Staff,Year 7
END:VEVENT
END:VCALENDAR