BEGIN:VCALENDAR
VERSION:2.0
PRODID:-//Carine Senior High School  - ECPv5.8.0//NONSGML v1.0//EN
CALSCALE:GREGORIAN
METHOD:PUBLISH
X-WR-CALNAME:Carine Senior High School 
X-ORIGINAL-URL:https://www.carinehs.wa.edu.au
X-WR-CALDESC:Events for Carine Senior High School 
BEGIN:VTIMEZONE
TZID:Asia/Shanghai
BEGIN:STANDARD
TZOFFSETFROM:+0800
TZOFFSETTO:+0800
TZNAME:CST
DTSTART:20250101T000000
END:STANDARD
END:VTIMEZONE
BEGIN:VEVENT
DTSTART;TZID=Asia/Shanghai:20250822T150000
DTEND;TZID=Asia/Shanghai:20250822T153000
DTSTAMP:20260424T045220
CREATED:20250207T060628Z
LAST-MODIFIED:20250822T061838Z
UID:13644-1755874800-1755876600@www.carinehs.wa.edu.au
SUMMARY:Year 12 OED Camp ends
DESCRIPTION:
URL:https://www.carinehs.wa.edu.au/event/year-12-oed-camp-ends/
CATEGORIES:Parents & Community,Staff,Year 12
END:VEVENT
END:VCALENDAR