BEGIN:VCALENDAR
VERSION:2.0
PRODID:-//Carine Senior High School  - ECPv5.8.0//NONSGML v1.0//EN
CALSCALE:GREGORIAN
METHOD:PUBLISH
X-WR-CALNAME:Carine Senior High School 
X-ORIGINAL-URL:https://www.carinehs.wa.edu.au
X-WR-CALDESC:Events for Carine Senior High School 
BEGIN:VTIMEZONE
TZID:Asia/Shanghai
BEGIN:STANDARD
TZOFFSETFROM:+0800
TZOFFSETTO:+0800
TZNAME:CST
DTSTART:20210101T000000
END:STANDARD
END:VTIMEZONE
BEGIN:VEVENT
DTSTART;TZID=Asia/Shanghai:20210701T090000
DTEND;TZID=Asia/Shanghai:20210701T150000
DTSTAMP:20260425T121414
CREATED:20210615T082310Z
LAST-MODIFIED:20210615T082310Z
UID:7777-1625130000-1625151600@www.carinehs.wa.edu.au
SUMMARY:Year 12 Human Biology / Biology Excursion
DESCRIPTION:
URL:https://www.carinehs.wa.edu.au/event/year-12-human-biology-biology-excursion/
END:VEVENT
END:VCALENDAR