BEGIN:VCALENDAR
VERSION:2.0
PRODID:-//Carine Senior High School  - ECPv5.8.0//NONSGML v1.0//EN
CALSCALE:GREGORIAN
METHOD:PUBLISH
X-WR-CALNAME:Carine Senior High School 
X-ORIGINAL-URL:https://www.carinehs.wa.edu.au
X-WR-CALDESC:Events for Carine Senior High School 
BEGIN:VTIMEZONE
TZID:Asia/Shanghai
BEGIN:STANDARD
TZOFFSETFROM:+0800
TZOFFSETTO:+0800
TZNAME:CST
DTSTART:20220101T000000
END:STANDARD
END:VTIMEZONE
BEGIN:VEVENT
DTSTART;TZID=Asia/Shanghai:20220817T080000
DTEND;TZID=Asia/Shanghai:20220817T083000
DTSTAMP:20260423T032342
CREATED:20220630T044446Z
LAST-MODIFIED:20220812T061916Z
UID:8821-1660723200-1660725000@www.carinehs.wa.edu.au
SUMMARY:Year 12 ATAR Geography Excursion
DESCRIPTION:
URL:https://www.carinehs.wa.edu.au/event/year-12-atar-geography-excursion-2/
CATEGORIES:Parents & Community,Staff,Whole School,Year 12
END:VEVENT
END:VCALENDAR