BEGIN:VCALENDAR
VERSION:2.0
PRODID:-//Carine Senior High School  - ECPv5.8.0//NONSGML v1.0//EN
CALSCALE:GREGORIAN
METHOD:PUBLISH
X-WR-CALNAME:Carine Senior High School 
X-ORIGINAL-URL:https://www.carinehs.wa.edu.au
X-WR-CALDESC:Events for Carine Senior High School 
BEGIN:VTIMEZONE
TZID:Asia/Shanghai
BEGIN:STANDARD
TZOFFSETFROM:+0800
TZOFFSETTO:+0800
TZNAME:CST
DTSTART:20220101T000000
END:STANDARD
END:VTIMEZONE
BEGIN:VEVENT
DTSTART;TZID=Asia/Shanghai:20220208T140000
DTEND;TZID=Asia/Shanghai:20220208T150000
DTSTAMP:20260423T171853
CREATED:20220117T035623Z
LAST-MODIFIED:20220117T035623Z
UID:8038-1644328800-1644332400@www.carinehs.wa.edu.au
SUMMARY:Year 12 Assembly
DESCRIPTION:
URL:https://www.carinehs.wa.edu.au/event/year-12-assembly/
END:VEVENT
END:VCALENDAR