BEGIN:VCALENDAR
VERSION:2.0
PRODID:-//Carine Senior High School  - ECPv5.8.0//NONSGML v1.0//EN
CALSCALE:GREGORIAN
METHOD:PUBLISH
X-WR-CALNAME:Carine Senior High School 
X-ORIGINAL-URL:https://www.carinehs.wa.edu.au
X-WR-CALDESC:Events for Carine Senior High School 
BEGIN:VTIMEZONE
TZID:Asia/Shanghai
BEGIN:STANDARD
TZOFFSETFROM:+0800
TZOFFSETTO:+0800
TZNAME:CST
DTSTART:20240101T000000
END:STANDARD
END:VTIMEZONE
BEGIN:VEVENT
DTSTART;TZID=Asia/Shanghai:20241016T090000
DTEND;TZID=Asia/Shanghai:20241016T160000
DTSTAMP:20260421T032217
CREATED:20240903T073114Z
LAST-MODIFIED:20240920T060129Z
UID:12952-1729069200-1729094400@www.carinehs.wa.edu.au
SUMMARY:Year 11 Media Excursion
DESCRIPTION:
URL:https://www.carinehs.wa.edu.au/event/year-11-media-excursion/
CATEGORIES:Parents & Community,Staff,Year 11
END:VEVENT
END:VCALENDAR