BEGIN:VCALENDAR
VERSION:2.0
PRODID:-//Carine Senior High School  - ECPv5.8.0//NONSGML v1.0//EN
CALSCALE:GREGORIAN
METHOD:PUBLISH
X-WR-CALNAME:Carine Senior High School 
X-ORIGINAL-URL:https://www.carinehs.wa.edu.au
X-WR-CALDESC:Events for Carine Senior High School 
BEGIN:VTIMEZONE
TZID:Asia/Shanghai
BEGIN:STANDARD
TZOFFSETFROM:+0800
TZOFFSETTO:+0800
TZNAME:CST
DTSTART:20250101T000000
END:STANDARD
END:VTIMEZONE
BEGIN:VEVENT
DTSTART;TZID=Asia/Shanghai:20250321T080000
DTEND;TZID=Asia/Shanghai:20250321T083000
DTSTAMP:20260423T193924
CREATED:20250221T061145Z
LAST-MODIFIED:20250314T065612Z
UID:13787-1742544000-1742545800@www.carinehs.wa.edu.au
SUMMARY:Year 11 Geography Meckering Excursion
DESCRIPTION:
URL:https://www.carinehs.wa.edu.au/event/year-11-geography-meckering-excursion/
CATEGORIES:Parents & Community,Staff,Year 11
END:VEVENT
END:VCALENDAR