BEGIN:VCALENDAR
VERSION:2.0
PRODID:-//Carine Senior High School  - ECPv5.8.0//NONSGML v1.0//EN
CALSCALE:GREGORIAN
METHOD:PUBLISH
X-WR-CALNAME:Carine Senior High School 
X-ORIGINAL-URL:https://www.carinehs.wa.edu.au
X-WR-CALDESC:Events for Carine Senior High School 
BEGIN:VTIMEZONE
TZID:Asia/Shanghai
BEGIN:STANDARD
TZOFFSETFROM:+0800
TZOFFSETTO:+0800
TZNAME:CST
DTSTART:20220101T000000
END:STANDARD
END:VTIMEZONE
BEGIN:VEVENT
DTSTART;TZID=Asia/Shanghai:20221020T090000
DTEND;TZID=Asia/Shanghai:20221020T150000
DTSTAMP:20260423T032337
CREATED:20220630T044453Z
LAST-MODIFIED:20220906T013913Z
UID:8832-1666256400-1666278000@www.carinehs.wa.edu.au
SUMMARY:Year 11 General Geography Excursion
DESCRIPTION:
URL:https://www.carinehs.wa.edu.au/event/year-11-general-geography-excursion-2/
CATEGORIES:Parents & Community,Staff,Whole School,Year 11
END:VEVENT
END:VCALENDAR