BEGIN:VCALENDAR
VERSION:2.0
PRODID:-//Carine Senior High School  - ECPv5.8.0//NONSGML v1.0//EN
CALSCALE:GREGORIAN
METHOD:PUBLISH
X-WR-CALNAME:Carine Senior High School 
X-ORIGINAL-URL:https://www.carinehs.wa.edu.au
X-WR-CALDESC:Events for Carine Senior High School 
BEGIN:VTIMEZONE
TZID:Asia/Shanghai
BEGIN:STANDARD
TZOFFSETFROM:+0800
TZOFFSETTO:+0800
TZNAME:CST
DTSTART:20210101T000000
END:STANDARD
END:VTIMEZONE
BEGIN:VEVENT
DTSTART;TZID=Asia/Shanghai:20210611T090000
DTEND;TZID=Asia/Shanghai:20210611T093000
DTSTAMP:20260426T035435
CREATED:20210407T011359Z
LAST-MODIFIED:20210519T075711Z
UID:7571-1623402000-1623403800@www.carinehs.wa.edu.au
SUMMARY:Year 11 2022 Course Counselling commences
DESCRIPTION:
URL:https://www.carinehs.wa.edu.au/event/year-11-2022-course-counselling-commences/
END:VEVENT
END:VCALENDAR