BEGIN:VCALENDAR
VERSION:2.0
PRODID:-//Carine Senior High School  - ECPv5.8.0//NONSGML v1.0//EN
CALSCALE:GREGORIAN
METHOD:PUBLISH
X-WR-CALNAME:Carine Senior High School 
X-ORIGINAL-URL:https://www.carinehs.wa.edu.au
X-WR-CALDESC:Events for Carine Senior High School 
BEGIN:VTIMEZONE
TZID:Asia/Shanghai
BEGIN:STANDARD
TZOFFSETFROM:+0800
TZOFFSETTO:+0800
TZNAME:CST
DTSTART:20250101T000000
END:STANDARD
END:VTIMEZONE
BEGIN:VEVENT
DTSTART;TZID=Asia/Shanghai:20250806T183000
DTEND;TZID=Asia/Shanghai:20250806T200000
DTSTAMP:20260425T072938
CREATED:20250130T035456Z
LAST-MODIFIED:20250801T060154Z
UID:13431-1754505000-1754510400@www.carinehs.wa.edu.au
SUMMARY:Year 10-12 Paul Dillon Parent Session
DESCRIPTION:
URL:https://www.carinehs.wa.edu.au/event/year-10-12-paul-dillon-parent-session/
END:VEVENT
END:VCALENDAR