BEGIN:VCALENDAR
VERSION:2.0
PRODID:-//Carine Senior High School  - ECPv5.8.0//NONSGML v1.0//EN
CALSCALE:GREGORIAN
METHOD:PUBLISH
X-WR-CALNAME:Carine Senior High School 
X-ORIGINAL-URL:https://www.carinehs.wa.edu.au
X-WR-CALDESC:Events for Carine Senior High School 
BEGIN:VTIMEZONE
TZID:Asia/Shanghai
BEGIN:STANDARD
TZOFFSETFROM:+0800
TZOFFSETTO:+0800
TZNAME:CST
DTSTART:20200101T000000
END:STANDARD
END:VTIMEZONE
BEGIN:VEVENT
DTSTART;TZID=Asia/Shanghai:20201014T090000
DTEND;TZID=Asia/Shanghai:20201016T150000
DTSTAMP:20260424T154703
CREATED:20200917T063934Z
LAST-MODIFIED:20210211T014931Z
UID:7002-1602666000-1602860400@www.carinehs.wa.edu.au
SUMMARY:Y11 Cert II Outdoor Recreation Bike Camp
DESCRIPTION:
URL:https://www.carinehs.wa.edu.au/event/y11-cert-ii-outdoor-recreation-bike-camp/
CATEGORIES:Parents & Community,Staff,Whole School,Year 11
END:VEVENT
END:VCALENDAR