BEGIN:VCALENDAR
VERSION:2.0
PRODID:-//Carine Senior High School  - ECPv5.8.0//NONSGML v1.0//EN
CALSCALE:GREGORIAN
METHOD:PUBLISH
X-WR-CALNAME:Carine Senior High School 
X-ORIGINAL-URL:https://www.carinehs.wa.edu.au
X-WR-CALDESC:Events for Carine Senior High School 
BEGIN:VTIMEZONE
TZID:Asia/Shanghai
BEGIN:STANDARD
TZOFFSETFROM:+0800
TZOFFSETTO:+0800
TZNAME:CST
DTSTART:20250101T000000
END:STANDARD
END:VTIMEZONE
BEGIN:VEVENT
DTSTART;TZID=Asia/Shanghai:20251031T090000
DTEND;TZID=Asia/Shanghai:20251031T150000
DTSTAMP:20260420T191334
CREATED:20251017T052613Z
LAST-MODIFIED:20251031T054624Z
UID:14591-1761901200-1761922800@www.carinehs.wa.edu.au
SUMMARY:World Teachers' Day
DESCRIPTION:
URL:https://www.carinehs.wa.edu.au/event/world-teachers-day/
END:VEVENT
END:VCALENDAR