BEGIN:VCALENDAR
VERSION:2.0
PRODID:-//Carine Senior High School  - ECPv5.8.0//NONSGML v1.0//EN
CALSCALE:GREGORIAN
METHOD:PUBLISH
X-WR-CALNAME:Carine Senior High School 
X-ORIGINAL-URL:https://www.carinehs.wa.edu.au
X-WR-CALDESC:Events for Carine Senior High School 
BEGIN:VTIMEZONE
TZID:Asia/Shanghai
BEGIN:STANDARD
TZOFFSETFROM:+0800
TZOFFSETTO:+0800
TZNAME:CST
DTSTART:20250101T000000
END:STANDARD
END:VTIMEZONE
BEGIN:VEVENT
DTSTART;VALUE=DATE:20250806
DTEND;VALUE=DATE:20250808
DTSTAMP:20260425T035825
CREATED:20250613T060739Z
LAST-MODIFIED:20250801T060154Z
UID:14305-1754442000-1754528399@www.carinehs.wa.edu.au
SUMMARY:Staff v Y12 Volleyball
DESCRIPTION:
URL:https://www.carinehs.wa.edu.au/event/staff-v-y12-volleyball/
CATEGORIES:Parents & Community,Staff,Year 12
END:VEVENT
END:VCALENDAR