BEGIN:VCALENDAR
VERSION:2.0
PRODID:-//Carine Senior High School  - ECPv5.8.0//NONSGML v1.0//EN
CALSCALE:GREGORIAN
METHOD:PUBLISH
X-WR-CALNAME:Carine Senior High School 
X-ORIGINAL-URL:https://www.carinehs.wa.edu.au
X-WR-CALDESC:Events for Carine Senior High School 
BEGIN:VTIMEZONE
TZID:Asia/Shanghai
BEGIN:STANDARD
TZOFFSETFROM:+0800
TZOFFSETTO:+0800
TZNAME:CST
DTSTART:20250101T000000
END:STANDARD
END:VTIMEZONE
BEGIN:VEVENT
DTSTART;TZID=Asia/Shanghai:20250827T090000
DTEND;TZID=Asia/Shanghai:20250827T100000
DTSTAMP:20260423T193757
CREATED:20250130T035457Z
LAST-MODIFIED:20250822T061838Z
UID:13436-1756285200-1756288800@www.carinehs.wa.edu.au
SUMMARY:School Tour
DESCRIPTION:
URL:https://www.carinehs.wa.edu.au/event/school-tour-25/
CATEGORIES:Parents & Community,Staff
END:VEVENT
END:VCALENDAR