BEGIN:VCALENDAR
VERSION:2.0
PRODID:-//Carine Senior High School  - ECPv5.8.0//NONSGML v1.0//EN
CALSCALE:GREGORIAN
METHOD:PUBLISH
X-WR-CALNAME:Carine Senior High School 
X-ORIGINAL-URL:https://www.carinehs.wa.edu.au
X-WR-CALDESC:Events for Carine Senior High School 
BEGIN:VTIMEZONE
TZID:Asia/Shanghai
BEGIN:STANDARD
TZOFFSETFROM:+0800
TZOFFSETTO:+0800
TZNAME:CST
DTSTART:20250101T000000
END:STANDARD
END:VTIMEZONE
BEGIN:VEVENT
DTSTART;TZID=Asia/Shanghai:20251111T080000
DTEND;TZID=Asia/Shanghai:20251111T083000
DTSTAMP:20260423T180709
CREATED:20250207T060631Z
LAST-MODIFIED:20251031T054625Z
UID:13689-1762848000-1762849800@www.carinehs.wa.edu.au
SUMMARY:Remembrance Day PA Service
DESCRIPTION:
URL:https://www.carinehs.wa.edu.au/event/remembrance-day-pa-service/
CATEGORIES:Parents & Community,Staff
END:VEVENT
END:VCALENDAR