BEGIN:VCALENDAR
VERSION:2.0
PRODID:-//Carine Senior High School  - ECPv5.8.0//NONSGML v1.0//EN
CALSCALE:GREGORIAN
METHOD:PUBLISH
X-WR-CALNAME:Carine Senior High School 
X-ORIGINAL-URL:https://www.carinehs.wa.edu.au
X-WR-CALDESC:Events for Carine Senior High School 
BEGIN:VTIMEZONE
TZID:Asia/Shanghai
BEGIN:STANDARD
TZOFFSETFROM:+0800
TZOFFSETTO:+0800
TZNAME:CST
DTSTART:20240101T000000
END:STANDARD
END:VTIMEZONE
BEGIN:VEVENT
DTSTART;TZID=Asia/Shanghai:20241017T180000
DTEND;TZID=Asia/Shanghai:20241017T193000
DTSTAMP:20260421T064142
CREATED:20240903T073115Z
LAST-MODIFIED:20240920T060130Z
UID:12956-1729188000-1729193400@www.carinehs.wa.edu.au
SUMMARY:Gifted and Talented Year 5 parent presentation
DESCRIPTION:
URL:https://www.carinehs.wa.edu.au/event/gifted-and-talented-year-5-parent-presentation/
CATEGORIES:Parents & Community,Staff
END:VEVENT
END:VCALENDAR