BEGIN:VCALENDAR
VERSION:2.0
PRODID:-//Carine Senior High School  - ECPv5.8.0//NONSGML v1.0//EN
CALSCALE:GREGORIAN
METHOD:PUBLISH
X-WR-CALNAME:Carine Senior High School 
X-ORIGINAL-URL:https://www.carinehs.wa.edu.au
X-WR-CALDESC:Events for Carine Senior High School 
BEGIN:VTIMEZONE
TZID:Asia/Shanghai
BEGIN:STANDARD
TZOFFSETFROM:+0800
TZOFFSETTO:+0800
TZNAME:CST
DTSTART:20240101T000000
END:STANDARD
END:VTIMEZONE
BEGIN:VEVENT
DTSTART;TZID=Asia/Shanghai:20240325T151500
DTEND;TZID=Asia/Shanghai:20240325T154500
DTSTAMP:20260421T125448
CREATED:20240319T031654Z
LAST-MODIFIED:20240319T031654Z
UID:11357-1711379700-1711381500@www.carinehs.wa.edu.au
SUMMARY:General Staff Meeting
DESCRIPTION:
URL:https://www.carinehs.wa.edu.au/event/general-staff-meeting-4/
CATEGORIES:Staff
END:VEVENT
END:VCALENDAR