BEGIN:VCALENDAR
VERSION:2.0
PRODID:-//Carine Senior High School  - ECPv5.8.0//NONSGML v1.0//EN
CALSCALE:GREGORIAN
METHOD:PUBLISH
X-WR-CALNAME:Carine Senior High School 
X-ORIGINAL-URL:https://www.carinehs.wa.edu.au
X-WR-CALDESC:Events for Carine Senior High School 
BEGIN:VTIMEZONE
TZID:Asia/Shanghai
BEGIN:STANDARD
TZOFFSETFROM:+0800
TZOFFSETTO:+0800
TZNAME:CST
DTSTART:20250101T000000
END:STANDARD
END:VTIMEZONE
BEGIN:VEVENT
DTSTART;TZID=Asia/Shanghai:20250220T151500
DTEND;TZID=Asia/Shanghai:20250220T160000
DTSTAMP:20260421T000704
CREATED:20250130T035448Z
LAST-MODIFIED:20250214T052830Z
UID:13365-1740064500-1740067200@www.carinehs.wa.edu.au
SUMMARY:General Staff Meeting
DESCRIPTION:
URL:https://www.carinehs.wa.edu.au/event/general-staff-meeting-10/
CATEGORIES:Staff
END:VEVENT
END:VCALENDAR