BEGIN:VCALENDAR
VERSION:2.0
PRODID:-//Carine Senior High School  - ECPv5.8.0//NONSGML v1.0//EN
CALSCALE:GREGORIAN
METHOD:PUBLISH
X-WR-CALNAME:Carine Senior High School 
X-ORIGINAL-URL:https://www.carinehs.wa.edu.au
X-WR-CALDESC:Events for Carine Senior High School 
BEGIN:VTIMEZONE
TZID:Asia/Shanghai
BEGIN:STANDARD
TZOFFSETFROM:+0800
TZOFFSETTO:+0800
TZNAME:CST
DTSTART:20250101T000000
END:STANDARD
END:VTIMEZONE
BEGIN:VEVENT
DTSTART;TZID=Asia/Shanghai:20250926T090000
DTEND;TZID=Asia/Shanghai:20250926T150000
DTSTAMP:20260420T220754
CREATED:20250801T060157Z
LAST-MODIFIED:20250912T051134Z
UID:14483-1758877200-1758898800@www.carinehs.wa.edu.au
SUMMARY:French ATAR exam
DESCRIPTION:
URL:https://www.carinehs.wa.edu.au/event/french-atar-exam/
CATEGORIES:Parents & Community,Staff,Year 12
END:VEVENT
END:VCALENDAR