BEGIN:VCALENDAR
VERSION:2.0
PRODID:-//Carine Senior High School  - ECPv5.8.0//NONSGML v1.0//EN
CALSCALE:GREGORIAN
METHOD:PUBLISH
X-WR-CALNAME:Carine Senior High School 
X-ORIGINAL-URL:https://www.carinehs.wa.edu.au
X-WR-CALDESC:Events for Carine Senior High School 
BEGIN:VTIMEZONE
TZID:Asia/Shanghai
BEGIN:STANDARD
TZOFFSETFROM:+0800
TZOFFSETTO:+0800
TZNAME:CST
DTSTART:20250101T000000
END:STANDARD
END:VTIMEZONE
BEGIN:VEVENT
DTSTART;TZID=Asia/Shanghai:20250805T090000
DTEND;TZID=Asia/Shanghai:20250805T123000
DTSTAMP:20260425T014109
CREATED:20250723T051044Z
LAST-MODIFIED:20250801T060154Z
UID:14413-1754384400-1754397000@www.carinehs.wa.edu.au
SUMMARY:External ATPES practical exam
DESCRIPTION:
URL:https://www.carinehs.wa.edu.au/event/external-atpes-practical-exam/
CATEGORIES:Parents & Community,Staff,Year 12
END:VEVENT
END:VCALENDAR