BEGIN:VCALENDAR
VERSION:2.0
PRODID:-//Carine Senior High School  - ECPv5.8.0//NONSGML v1.0//EN
CALSCALE:GREGORIAN
METHOD:PUBLISH
X-WR-CALNAME:Carine Senior High School 
X-ORIGINAL-URL:https://www.carinehs.wa.edu.au
X-WR-CALDESC:Events for Carine Senior High School 
BEGIN:VTIMEZONE
TZID:Asia/Shanghai
BEGIN:STANDARD
TZOFFSETFROM:+0800
TZOFFSETTO:+0800
TZNAME:CST
DTSTART:20250101T000000
END:STANDARD
END:VTIMEZONE
BEGIN:VEVENT
DTSTART;TZID=Asia/Shanghai:20250526T080000
DTEND;TZID=Asia/Shanghai:20250526T083000
DTSTAMP:20260421T012322
CREATED:20250130T035454Z
LAST-MODIFIED:20250516T065048Z
UID:13411-1748246400-1748248200@www.carinehs.wa.edu.au
SUMMARY:ESTs finish
DESCRIPTION:
URL:https://www.carinehs.wa.edu.au/event/ests-finish/
CATEGORIES:Parents & Community,Staff
END:VEVENT
END:VCALENDAR